BEGIN:VCALENDAR
VERSION:2.0
PRODID:icalendar-ruby
CALSCALE:GREGORIAN
METHOD:PUBLISH
BEGIN:VEVENT
DTSTAMP:20260422T135413Z
UID:eed7140c-e145-4c94-9cc3-ec1f778e1a65
DTSTART:20230514T100000
DTEND:20230514T170000
DESCRIPTION:<p><span style="color: rgb(0\, 0\, 0)\;">uMAMA Music Concert</s
 pan></p><p><span style="color: rgb(0\, 0\, 0)\;">Mother’s Day </span><sp
 an style="color: rgb(31\, 31\, 31)\; background-color: rgb(255\, 255\, 255
 )\;">|</span><span style="color: rgb(0\, 0\, 0)\;"> Sunday 14 May</span></
 p><p><span style="color: rgb(0\, 0\, 0)\;">NIROX Sculpture Park</span></p>
 <p><br></p><p><span style="color: rgb(0\, 0\, 0)\;">“Mother: the most be
 autiful word on the lips of mankind” </span><em style="color: rgb(0\, 0\
 , 0)\;">- Kahlil Gibran</em></p><p><br></p><p><span style="color: rgb(0\, 
 0\, 0)\;">“To describe my Mother would be to write about a hurricane in 
 its perfect power” </span><em style="color: rgb(0\, 0\, 0)\;">- Maya Ang
 elou</em></p><p><br></p><p><span style="color: rgb(0\, 0\, 0)\;">NIROX cel
 ebrates Mothers in the Amphitheatre with a multitude of musical genres by 
 the maternal matriarchs of our music landscape.</span></p><p><br></p><p><s
 pan style="color: rgb(0\, 0\, 0)\;">Alongside their own original compositi
 ons and within their unique musical language\, the artists will also pay h
 omage to Mama Africa - the iconic Miriam Makeba.</span></p><p><br></p><p><
 span style="color: rgb(0\, 0\, 0)\;">Programme:</span></p><p><span style="
 color: rgb(0\, 0\, 0)\;">10h00 - Gates open</span></p><p><span style="colo
 r: rgb(0\, 0\, 0)\;">11h00 - Bianca Blanc</span></p><p><span style="color:
  rgb(0\, 0\, 0)\;">12h00 - AusTebza</span></p><p><span style="color: rgb(0
 \, 0\, 0)\;">13h15 - Zolani Mahola is The One Who Sings ft. Sky Dladla</sp
 an></p><p><span style="color: rgb(0\, 0\, 0)\;">14h30 - Buhlebendalo & The
  Fem Band</span></p><p><span style="color: rgb(0\, 0\, 0)\;">16h00 - Zoë 
 Modiga</span></p><p><br></p><p><span style="color: rgb(0\, 0\, 0)\;">Gourm
 et cuisine courtesy of the Epicurean Emporium\, spanning a wide selection 
 of culinary abundance.</span></p><p><br></p><p><span style="color: rgb(0\,
  0\, 0)\;">Bernie’s Bar will keep guests elegantly hydrated with an arra
 y of bubbles\, wines\, and other bespoke beverages.</span></p><p><br></p><
 p><span style="color: rgb(0\, 0\, 0)\;">Limited tickets are available from
  </span><a href="http://www.niroxarts.com/" target="_blank" style="color: 
 rgb(17\, 85\, 204)\;">www.niroxarts.com</a><span style="color: rgb(0\, 0\,
  0)\;">.</span></p><p><br></p><p><span style="color: rgb(0\, 0\, 0)\;">Tic
 kets:</span></p><p><span style="color: rgb(0\, 0\, 0)\;">Early-Bird Ticket
 s: R450</span></p><p><span style="color: rgb(0\, 0\, 0)\;">General Admissi
 on: R540</span></p><p><span style="color: rgb(0\, 0\, 0)\;">Late Admission
 : R600</span></p><p><span style="color: rgb(0\, 0\, 0)\;">Children under 1
 2 enter the sculpture park free-of-charge</span></p><p><br></p><p><span st
 yle="color: rgb(0\, 0\, 0)\;">NIROX is a private not-for-profit foundation
  to benefit the arts. All income is used to maintain the grounds\, the art
 ist residency programme\, and artist support.</span></p><p><br></p><p><spa
 n style="color: rgb(0\, 0\, 0)\;">uMAMA brought to you by Art of Superwoma
 n and NIROX Foundation.</span></p><p><br></p><p><span style="color: rgb(0\
 , 0\, 0)\;"> #NIROX #niroxfoundation #niroxsculpturepark #music #concert #
 musicinnature #performance</span></p><p><br></p><p><strong style="color: r
 gb(0\, 0\, 0)\;">GPS: S25°59' 09.56'' E27°46' 59.17"</strong></p><p><br>
 </p><p><span style="color: rgb(0\, 0\, 0)\;">No food\, drinks\, pets\, gaz
 ebos\, cooler boxes or sporting equipment may be brought into the park. E
 ntry and use of the facilities are entirely at your own risk. NIROX has no
  responsibility for injury or loss of any kind\, howsoever arising. Childr
 en are their parent's responsibility.They must be under adult supervision 
 at all times and respect the performance and experience of other patrons d
 uring the concert. Sculptures are not to be handled or played upon. The la
 ndscape is precious\, treat it as such. No swimming is permitted. NIROX is
  an outdoor venue\, subject to the weather. While every care is taken to e
 nsure an enjoyable experience\, a decision will be taken in the event of i
 nclement weather on how to proceed. No refunds. Entry to the park constitu
 tes agreement that images of visitors may be captured and published on soc
 ial and other media by other visitors\; and by NIROX. The event will compl
 y with current COVID legislation and best practice. If these change\, NIRO
 X is not responsible for the curtailment or cancellation of this event.</s
 pan></p><p><br></p><p><br></p>
LOCATION:24 Kromdraai Rd\, Kromdraai\, Krugersdorp\, Gauteng\, 1739
SUMMARY:uMAMA Music Concert | Mother's Day 2023
URL;VALUE=URI:https://nirox.howler.co.za/uMAMA2023
END:VEVENT
END:VCALENDAR
