BEGIN:VCALENDAR
VERSION:2.0
PRODID:icalendar-ruby
CALSCALE:GREGORIAN
METHOD:PUBLISH
BEGIN:VEVENT
DTSTAMP:20260422T085747Z
UID:18383888-5876-4825-bb96-b756331f50ab
DTSTART:20250720T100000
DTEND:20250720T170000
DESCRIPTION:<p><span>Sunday\, 20 July 2025</span></p><p><br></p><p><span>FA
 RMHOUSE58 MAKER’S TABLE brings Makers and friends together in nature.</s
 pan></p><p>Creativity\, enterprise and local produce\, delivering extraord
 inary experiences. </p><p><br></p><p><span>Ticket includes a Makers Table
  x Lawn Pavilion set menu: </span></p><p><span>- Wood-fired Tennessee cor
 nbread served alongside the meat trio</span></p><p><span>accompanied by a 
 selection of sauces\, mustards\, pickles and slaw.</span></p><p><span>- Sm
 ashed baby jacket potatoes</span></p><p><span>- Old school Mac & Cheese</s
 pan></p><p><span>- Charred spring onion slaw with Bajou remoulade dressing
 .</span></p><p><span>- Homemade sweet-mustard pickle</span></p><p><br></p>
 <p><span>—</span></p><p><br></p><p><span>Texan Meat Trio comprised of:</
 span></p><p><span>- 6-hour smoked Pork Ribs with smokehouse dry rub.</span
 ></p><p><span>- Salt and pepper Beef Brisket\, cooked low and slow for up
  to 16 hours. </span></p><p><span>- Smoked Sausage made from a blend of h
 erbs\, spices and premium meat cuts\, cold-smoked over Oakwood.</span></p
 ><p><br></p><p><span>—</span></p><p><br></p><p><span>Malva pudding serve
 d with whipped custard cream.</span></p><p><br></p><p><br></p><p><span>Tic
 ket also includes a refreshing Johnnie walker welcome cocktail. A selectio
 n of Johnnie Walker cocktails and other beverages will be available at the
  cash bar for you to indulge in\, with an option to lounge by the café\, 
 arbours or take a stroll through the park.</span></p><p><br></p><p><span>R
 995 per person</span></p><p><br></p><p><span>Booking is essential.</span><
 /p><p><br></p>
LOCATION:24 Kromdraai Rd\, Kromdraai\, Krugersdorp\, Gauteng\, 1739
SUMMARY:Maker's Table: Something Smoked with Mpho 'Becks' Nkomo
URL;VALUE=URI:https://nirox.howler.co.za/20july25
END:VEVENT
END:VCALENDAR
