BEGIN:VCALENDAR
VERSION:2.0
PRODID:icalendar-ruby
CALSCALE:GREGORIAN
METHOD:PUBLISH
BEGIN:VEVENT
DTSTAMP:20260422T052442Z
UID:36425b25-d748-4c61-a5dd-81f9d6c8b1a2
DTSTART:20260215T100000
DTEND:20260215T183000
DESCRIPTION:<p><strong style="color: rgb(67\, 67\, 67)\;">Concert for Love 
 2026 - <em>“Music for the Soul”</em></strong></p><p><span style="color
 : rgb(67\, 67\, 67)\;">Sunday 15 February</span></p><p><span style="color:
  rgb(67\, 67\, 67)\;">NIROX Sculpture Park</span></p><p><span style="color
 : rgb(67\, 67\, 67)\;">Cradle of Humankind</span></p><p><br></p><p><em sty
 le="color: rgb(34\, 34\, 34)\;">"What shall it profit a man\, if he shall 
 gain the whole world\, and lose his own soul?"</em><span style="color: rgb
 (34\, 34\, 34)\;"> - Thoreau</span></p><p><br></p><p><span style="color: r
 gb(67\, 67\, 67)\;">What is love? What is soul? What is their connection?<
 /span></p><p><span style="color: rgb(67\, 67\, 67)\;">How shall we answer\
 , if not with music\, connecting us in nature…</span></p><p><br></p><p>F
 ull programme to be announced shortly...</p><p><br></p><p><span style="col
 or: rgb(67\, 67\, 67)\;">Poet & musician </span><strong style="color: rgb(
 67\, 67\, 67)\;">Nomashenge Dlamini </strong><span style="color: rgb(67\, 
 67\, 67)\;">masters the ceremonies</span></p><p><br></p><p><span style="co
 lor: rgb(67\, 67\, 67)\;">Gastronomy</span></p><p><span style="color: rgb(
 67\, 67\, 67)\;">a special Valentine’s Day edition of </span><strong sty
 le="color: rgb(67\, 67\, 67)\;">The Epicurean Emporium</strong></p><p><br>
 </p><p><span style="color: rgb(67\, 67\, 67)\;">Libation</span></p><p><spa
 n style="color: rgb(67\, 67\, 67)\;">a full offering from </span><strong s
 tyle="color: rgb(67\, 67\, 67)\;">Bernie’s Bar</strong></p><p><br></p><p
 ><span style="color: rgb(67\, 67\, 67)\;">Gates open 10h00 on </span><stro
 ng style="color: rgb(67\, 67\, 67)\;">Sunday 15 February</strong></p><p><s
 pan style="color: rgb(67\, 67\, 67)\;">Music throughout the day\, closing 
 on the lawns at sunset</span></p><p><br></p><p><strong style="color: rgb(6
 7\, 67\, 67)\;">Tickets:</strong></p><p><span style="color: rgb(67\, 67\, 
 67)\;">Early Bird Tickets R550</span></p><p><span style="color: rgb(67\, 6
 7\, 67)\;">General Admission R650</span></p><p><span style="color: rgb(67\
 , 67\, 67)\;">Final Admission R750</span></p><p><span style="color: rgb(67
 \, 67\, 67)\;">Children aged 12 and under R80</span></p><p><span style="co
 lor: rgb(67\, 67\, 67)\;">Infants aged 2 and under\, free of charge</span>
 </p><p><br></p><p><span style="color: rgb(67\, 67\, 67)\;">Tickets intenti
 onally limited to maintain an intimate setting</span></p><p><span style="c
 olor: rgb(67\, 67\, 67)\;">Early booking advised to avoid disappointment</
 span></p><p><span style="color: rgb(67\, 67\, 67)\;">Tickets available fro
 m </span><a href="http://www.niroxarts.com/" target="_blank" style="color:
  rgb(67\, 67\, 67)\;">www.niroxarts.com</a></p><p><br></p><p><span style="
 color: rgb(67\, 67\, 67)\;">NIROX is a private not-for-profit foundation t
 o benefit the arts</span></p><p><span style="color: rgb(67\, 67\, 67)\;">A
 ll income is used to maintain the grounds\, the artist residency programme
 \, and artist support.</span></p><p><span style="color: rgb(67\, 67\, 67)\
 ;">NIROX Foundation is dedicated to bringing exceptional cultural experien
 ces to the world through commitment to quality programming and artistic in
 novation</span></p><p><span style="color: rgb(67\, 67\, 67)\;">aiming to e
 nrich lives and foster a deeper appreciation for the arts in all its forms
 .</span></p><p><br></p><p><span style="color: rgb(67\, 67\, 67)\;">No food
 \, drinks\, pets\, gazebos\, cooler boxes or sporting equipment may be bro
 ught into the park.</span></p><p><span style="color: rgb(67\, 67\, 67)\;">
 No camping chairs or beach umbrellas may be brought into the amphitheatre\
 ;</span></p><p><span style="color: rgb(67\, 67\, 67)\;">Hay bales will be 
 provided for seating\; picnic blankets and sun-hats are recommended</span>
 </p><p><span style="color: rgb(67\, 67\, 67)\;">Entry and use of the facil
 ities is entirely at the visitor's own risk</span></p><p><span style="colo
 r: rgb(67\, 67\, 67)\;">NIROX has no responsibility for injury or loss of 
 any kind\, howsoever arising</span></p><p><br></p><p><br></p><p><br></p><p
 ><br></p><p><br></p><p><br></p><p><br></p><p><br></p>
LOCATION:24 Kromdraai Rd\, Kromdraai\, Krugersdorp\, Gauteng\, 1739
SUMMARY:Concert for Love 2026
URL;VALUE=URI:https://nirox.howler.co.za/valentines2026
END:VEVENT
END:VCALENDAR
