BEGIN:VCALENDAR
VERSION:2.0
PRODID:icalendar-ruby
CALSCALE:GREGORIAN
METHOD:PUBLISH
BEGIN:VEVENT
DTSTAMP:20260421T084839Z
UID:3b774254-298b-48e9-9e48-7cd83b87a223
DTSTART:20190316T100000
DTEND:20190316T180000
DESCRIPTION:<p>A MIDSUMMER NIGHT'S DREAM</p><p>THEATRE IN THE PARK</p><p><e
 m>in 3 Parts</em></p><p><br></p><p>Saturday 16 March │ NIROX Sculpture P
 ark │ Cradle of Humankind</p><p><br></p><p>12h00 – 'Walking Tall' perf
 ormance theatre</p><p>13h30 – Readings from Shakespeare sonnets</p><p>15
 h00 – A Midsummer Night's Dream</p><p><br></p><p>A collaboration between
  the National School of the Arts and NIROX Foundation presents a day of th
 eatre throughout the sculpture park\, culminating in an afternoon performa
 nce of Shakespeare's '<em>A Midsummer Night's Dream</em>' in the Amphithea
 tre.</p><p>With scenography by Gabrielle Kruger and music composed and per
 formed by The Urban Village.</p><p><br></p><p>A selection of the Bard's so
 nnets will be read by accomplished actors David Butler and Brenda Sakellar
 ides on the Main Lawn. PAST presents performance theatre '<em>Walking Tall
 </em>' in the Poplar Forest to commence the day of 'plein-air' theatre in 
 the park.</p><p><br></p><p>Outstanding cuisine will be on offer from NITA'
 s Kitchen at the Pavilion and from the Epicurean Emporium restaurateurs. B
 ernie's Bar will keep guests hydrated throughout the course of the day.</p
 ><p><br></p><p>Tickets R200 online\; R250 at the entrance on the day – s
 ubject to availability.</p><p>Pensioners & students R150 at the entrance o
 n the day.</p><p>Children under 12 enter free of charge.</p><p><br></p><p>
 <u>Part I</u></p><p>12h00 – Poplar Forest</p><p>'<em>Walking Tall</em>'<
 /p><p><br></p><p>'<em>Walking Tall</em>' is a physical theatre performance
  taking the viewer on a 13.8-billion-year journey through time presented b
 y PAST – Palaeontological Scientific Trust. It has been performed to ove
 r 1.3 million people around the world. PAST endeavors to foster education\
 , research and the public understanding of the sciences related to our ori
 gins.</p><p><br></p><p><u>Part II</u></p><p>13h30 – Main Lawn</p><p>Read
 ings: Shakespeare Sonnets</p><p><br></p><p>Acclaimed South African thespia
 ns David Butler and Brenda Sakellarides perform readings of their selectio
 n from Shakespeare's sonnets – a combination of tragedies and comedies.<
 /p><p><br></p><p><u>Part III</u></p><p>15h00 – Amphitheatre</p><p>'<em>A
  Midsummer Night's Dream</em>'</p><p>presented by the National School of t
 he Arts</p><p><br></p><p>Renaissance drama meets Generation Z in the reima
 gined '<em>A Midsummer Night's Dream</em>'\, giving credence to Ben Jonson
 's claim that Shakespeare was "not of an age but for all time". The creati
 ve team behind the critically-acclaimed '<em>Afro-Punk MacBeth</em>'\, Joh
 an Anker and Laine Butler's adaptation of '<em>A Midsummer Night's Dream</
 em>' is set in a South African urban plastic jungle reflecting both the at
 titudes and the materials of the 21<sup>st</sup> century. In a world that 
 has become plastic and fake\, just for a moment this play gives us a chanc
 e to find our imagination and to dream.</p><p><br></p><p>Following an exte
 nded spell in the NIROX Artist Residency\, South African artist Gabrielle 
 Kruger will create the scenography for the play. Her work explores the ide
 a of a socially and materially constructed landscapes. By utilising the me
 dium of solidified acrylic paint\, the landscape painting embodies plastic
  as it is liberated from its supporting canvas and frame in an attempt to 
 deconstruct traditional Western painting. Kruger's work aims to rearticula
 te the language and meaning that is associated with landscapes and the nat
 ural environment.</p><p><br></p><p>The play's score will be performed live
  by musicians in residence at NIROX Lerato Lichaba and Tubatsi Moloi from 
 The Urban Village ensemble. Their particular sounds of ancient-futurism ar
 e brought to life through flutes\, guitars\, vocal synthesisers\, traditio
 nal African instruments and live loops.</p><p><br></p><p>Tickets & informa
 tion available from www.niroxarts.com</p><p><br></p><p>Please note no food
 \, drinks\, pets\, gazebos or sporting equipment may be brought into the p
 ark.</p><p>Disclaimer: NIROX is an outdoor venue and so it is exposed to t
 he weather. In the event of inclement weather a decision will be taken on 
 how to proceed. No refunds.</p><p>Children must be under adult supervision
  at all times. Entry to the park is at your own risk. NIROX is not respons
 ible for any loss\, injury or damage.</p>
LOCATION:24 Kromdraai Rd\, Kromdraai\, Krugersdorp\, Gauteng\, 1739
SUMMARY:A Midsummer Night's Dream  Theatre in the Park
URL;VALUE=URI:https://nirox.howler.co.za/Shakespeare2019
END:VEVENT
END:VCALENDAR
